BEGIN:VCALENDAR
VERSION:2.0
PRODID:-//Cougar Cookers - ECPv6.15.20//NONSGML v1.0//EN
CALSCALE:GREGORIAN
METHOD:PUBLISH
X-WR-CALNAME:Cougar Cookers
X-ORIGINAL-URL:http://dev.cougarcookers.org
X-WR-CALDESC:Events for Cougar Cookers
REFRESH-INTERVAL;VALUE=DURATION:PT1H
X-Robots-Tag:noindex
X-PUBLISHED-TTL:PT1H
BEGIN:VTIMEZONE
TZID:America/Chicago
BEGIN:DAYLIGHT
TZOFFSETFROM:-0600
TZOFFSETTO:-0500
TZNAME:CDT
DTSTART:20240310T080000
END:DAYLIGHT
BEGIN:STANDARD
TZOFFSETFROM:-0500
TZOFFSETTO:-0600
TZNAME:CST
DTSTART:20241103T070000
END:STANDARD
BEGIN:DAYLIGHT
TZOFFSETFROM:-0600
TZOFFSETTO:-0500
TZNAME:CDT
DTSTART:20250309T080000
END:DAYLIGHT
BEGIN:STANDARD
TZOFFSETFROM:-0500
TZOFFSETTO:-0600
TZNAME:CST
DTSTART:20251102T070000
END:STANDARD
BEGIN:DAYLIGHT
TZOFFSETFROM:-0600
TZOFFSETTO:-0500
TZNAME:CDT
DTSTART:20260308T080000
END:DAYLIGHT
BEGIN:STANDARD
TZOFFSETFROM:-0500
TZOFFSETTO:-0600
TZNAME:CST
DTSTART:20261101T070000
END:STANDARD
END:VTIMEZONE
BEGIN:VEVENT
DTSTART;TZID=America/Chicago:20250301T130000
DTEND;TZID=America/Chicago:20250301T230000
DTSTAMP:20260421T062742
CREATED:20241026T003904Z
LAST-MODIFIED:20241101T072132Z
UID:8921-1740834000-1740870000@dev.cougarcookers.org
SUMMARY:Cougar Cookers 2025 - Saturday
DESCRIPTION:Tent open 1 pm – 11 pm\nFood served 3 pm – 9 pm
URL:http://dev.cougarcookers.org/event/cookoff-2025-saturday/
LOCATION:HLS&R Cook-off – Cougar Cougars Tent
CATEGORIES:World's Championship Bar-B-Que Contest
END:VEVENT
BEGIN:VEVENT
DTSTART;TZID=America/Chicago:20250228T160000
DTEND;TZID=America/Chicago:20250228T230000
DTSTAMP:20260421T062742
CREATED:20241026T003749Z
LAST-MODIFIED:20241101T072149Z
UID:8919-1740758400-1740783600@dev.cougarcookers.org
SUMMARY:Cougar Cookers 2025 - Friday
DESCRIPTION:Tent open 4 pm – 11 pm\nFood served 6 pm – 9 pm
URL:http://dev.cougarcookers.org/event/cookoff-2025-friday/
LOCATION:HLS&R Cook-off – Cougar Cougars Tent
CATEGORIES:World's Championship Bar-B-Que Contest
END:VEVENT
BEGIN:VEVENT
DTSTART;TZID=America/Chicago:20250227T170000
DTEND;TZID=America/Chicago:20250227T230000
DTSTAMP:20260421T062742
CREATED:20241026T003603Z
LAST-MODIFIED:20241101T072204Z
UID:8916-1740675600-1740697200@dev.cougarcookers.org
SUMMARY:Cougar Cookers 2025 - Thursday
DESCRIPTION:** Sponsors only **\nTent open 5 pm – 11 pm\nFood served 7 pm – 9 pm
URL:http://dev.cougarcookers.org/event/cookoff-2025/
LOCATION:HLS&R Cook-off – Cougar Cougars Tent
CATEGORIES:World's Championship Bar-B-Que Contest
END:VEVENT
END:VCALENDAR